BEGIN:VCALENDAR
VERSION:2.0
PRODID:-//Friendship Force Cedar Rapids and Iowa City - ECPv5.1.5//NONSGML v1.0//EN
CALSCALE:GREGORIAN
METHOD:PUBLISH
X-WR-CALNAME:Friendship Force Cedar Rapids and Iowa City
X-ORIGINAL-URL:http://www.friendshipforcecr-ic.org
X-WR-CALDESC:Events for Friendship Force Cedar Rapids and Iowa City
BEGIN:VTIMEZONE
TZID:UTC
BEGIN:STANDARD
TZOFFSETFROM:+0000
TZOFFSETTO:+0000
TZNAME:UTC
DTSTART:20240101T000000
END:STANDARD
END:VTIMEZONE
BEGIN:VEVENT
DTSTART;VALUE=DATE:20240719
DTEND;VALUE=DATE:20240723
DTSTAMP:20260422T203125
CREATED:20240202T160513Z
LAST-MODIFIED:20240202T161315Z
UID:3679-1721347200-1721692799@www.friendshipforcecr-ic.org
SUMMARY:Inbound Journey from Milwaukee
DESCRIPTION:This will be a shared inbound journey from Milwaukee. Time will be be divided between two locations: Cedar Rapids and Quad Cities clubs. Patty Potter is our Host Coordinator. Volunteers are needed for home/day/dinner hosting. \nPlease contact Patty pattyspotter1001@gmail.com or Judy Fraschet Miner\, jjbm526@aol.com if interested. \n
URL:http://www.friendshipforcecr-ic.org/event/inbound-journey-from-milwaukee/
END:VEVENT
BEGIN:VEVENT
DTSTART;TZID=UTC:20240722T180000
DTEND;TZID=UTC:20240722T200000
DTSTAMP:20260422T203125
CREATED:20240704T170436Z
LAST-MODIFIED:20240704T170436Z
UID:3764-1721671200-1721678400@www.friendshipforcecr-ic.org
SUMMARY:Farewell Dinner for Milwaukee Journey
DESCRIPTION:Our club will be hosting a split incoming journey for the Milwaukee FF Club with the Quad Cities FF Club July 19-23. There will be a farewell dinner on Monday July 22 at Lowe Park in Marion. The cost will be $25 and there will be a vegetarian option. It will begin at 6:00PM. \nLook for the Signup Genius to register or contact pattyspotter1001@gmail.com. \n
URL:http://www.friendshipforcecr-ic.org/event/farewell-dinner-for-milwaukee-journey/
LOCATION:Lowe Park\, 4500 N 10th St\, Marion\, IA\, 52302\, United States
END:VEVENT
END:VCALENDAR