BEGIN:VCALENDAR
VERSION:2.0
PRODID:-//Friendship Force Cedar Rapids and Iowa City - ECPv5.1.5//NONSGML v1.0//EN
CALSCALE:GREGORIAN
METHOD:PUBLISH
X-WR-CALNAME:Friendship Force Cedar Rapids and Iowa City
X-ORIGINAL-URL:http://www.friendshipforcecr-ic.org
X-WR-CALDESC:Events for Friendship Force Cedar Rapids and Iowa City
BEGIN:VTIMEZONE
TZID:UTC
BEGIN:STANDARD
TZOFFSETFROM:+0000
TZOFFSETTO:+0000
TZNAME:UTC
DTSTART:20240101T000000
END:STANDARD
END:VTIMEZONE
BEGIN:VEVENT
DTSTART;TZID=UTC:20240730T100000
DTEND;TZID=UTC:20240730T120000
DTSTAMP:20260423T065348
CREATED:20240717T010720Z
LAST-MODIFIED:20240717T010720Z
UID:3786-1722333600-1722340800@www.friendshipforcecr-ic.org
SUMMARY:Hiking at Wickiup Hill
DESCRIPTION:Greetings hikers!  We have an opportunity for a guided hike on July 30 at Wickiup Hill Learning Center\, 10260 Morris Hills Road Toddville\, IA   Conservation Specialist Amy D’Amico will meet us at 10am at the building entrance. Please dress for the weather\, bring sun protection\, insect repellent\, water and a donation for this wonderful park. \nPlease call Jean Thomas\, 319 830-5092 with questions. Look forward to seeing you there! \n
URL:http://www.friendshipforcecr-ic.org/event/hiking-at-wickiup-hill/
LOCATION:Wickiup Hill Learning Center\, 10260 Morris Hills Rd\, Toddville\, IA\, 52341\, United States
END:VEVENT
END:VCALENDAR