BEGIN:VCALENDAR
VERSION:2.0
PRODID:-//Friendship Force Cedar Rapids and Iowa City - ECPv5.1.5//NONSGML v1.0//EN
CALSCALE:GREGORIAN
METHOD:PUBLISH
X-WR-CALNAME:Friendship Force Cedar Rapids and Iowa City
X-ORIGINAL-URL:http://www.friendshipforcecr-ic.org
X-WR-CALDESC:Events for Friendship Force Cedar Rapids and Iowa City
BEGIN:VTIMEZONE
TZID:UTC
BEGIN:STANDARD
TZOFFSETFROM:+0000
TZOFFSETTO:+0000
TZNAME:UTC
DTSTART:20240101T000000
END:STANDARD
END:VTIMEZONE
BEGIN:VEVENT
DTSTART;VALUE=DATE:20240819
DTEND;VALUE=DATE:20240827
DTSTAMP:20260423T051016
CREATED:20231104T141145Z
LAST-MODIFIED:20231204T204524Z
UID:3594-1724025600-1724716799@www.friendshipforcecr-ic.org
SUMMARY:Outbound journey to Edmonton Canada
DESCRIPTION:Jerry and Carol Burke will be the Ambassador Coordinators. If you would like to join the journey please let Jerry and Carol or myself know soon. It is filling up fast. \nJerry and Carol Burke\, jbcburke@yahoo.com or Judy Frascht-Miner\,t-Miner jjbm526@aol.com 319-540-1701 \n
URL:http://www.friendshipforcecr-ic.org/event/outbound-journey-to-edmonton-canada/
END:VEVENT
END:VCALENDAR