BEGIN:VCALENDAR
VERSION:2.0
PRODID:-//Friendship Force Cedar Rapids and Iowa City - ECPv5.1.5//NONSGML v1.0//EN
CALSCALE:GREGORIAN
METHOD:PUBLISH
X-WR-CALNAME:Friendship Force Cedar Rapids and Iowa City
X-ORIGINAL-URL:http://www.friendshipforcecr-ic.org
X-WR-CALDESC:Events for Friendship Force Cedar Rapids and Iowa City
BEGIN:VTIMEZONE
TZID:UTC
BEGIN:STANDARD
TZOFFSETFROM:+0000
TZOFFSETTO:+0000
TZNAME:UTC
DTSTART:20240101T000000
END:STANDARD
END:VTIMEZONE
BEGIN:VEVENT
DTSTART;TZID=UTC:20240913T190000
DTEND;TZID=UTC:20240913T203000
DTSTAMP:20260423T033641
CREATED:20240904T151517Z
LAST-MODIFIED:20240904T151538Z
UID:3808-1726254000-1726259400@www.friendshipforcecr-ic.org
SUMMARY:Zoom Trivia
DESCRIPTION:The next Club Zoom Trivia is set for September 13 starting at 7:00PM. Tune in to test your knowledge of interesting and unusual pieces of information. It is always a fun time and we all learn new things. Look for the Zoom link in your email and click on\nto join in on the good times. \n
URL:http://www.friendshipforcecr-ic.org/event/zoom-trivia-18/
END:VEVENT
END:VCALENDAR