BEGIN:VCALENDAR
VERSION:2.0
PRODID:-//Friendship Force Cedar Rapids and Iowa City - ECPv5.1.5//NONSGML v1.0//EN
CALSCALE:GREGORIAN
METHOD:PUBLISH
X-WR-CALNAME:Friendship Force Cedar Rapids and Iowa City
X-ORIGINAL-URL:http://www.friendshipforcecr-ic.org
X-WR-CALDESC:Events for Friendship Force Cedar Rapids and Iowa City
BEGIN:VTIMEZONE
TZID:UTC
BEGIN:STANDARD
TZOFFSETFROM:+0000
TZOFFSETTO:+0000
TZNAME:UTC
DTSTART:20240101T000000
END:STANDARD
END:VTIMEZONE
BEGIN:VEVENT
DTSTART;VALUE=DATE:20240929
DTEND;VALUE=DATE:20241008
DTSTAMP:20260423T014254
CREATED:20231104T141350Z
LAST-MODIFIED:20240704T171930Z
UID:3596-1727568000-1728345599@www.friendshipforcecr-ic.org
SUMMARY:Inbound journey from Oregon's Mid-Willamette Valley
DESCRIPTION:Planning is in process. We are looking for a few more ambassadors to join this journey. If you know anyone you have met on your travels\, who may want to visit Cedar Rapids-Iowa City\, please contact them to see if they would like to join this journey. If you know anyone contact Judy Frascht-Miner\, jjbm526@aol.com. Also if you would like to be part of the planning of this incoming Journey contact Judy. \n
URL:http://www.friendshipforcecr-ic.org/event/inbound-journey-from-oregons-mid-willamette-valley/
END:VEVENT
BEGIN:VEVENT
DTSTART;TZID=UTC:20241006T170000
DTEND;TZID=UTC:20241006T190000
DTSTAMP:20260423T014254
CREATED:20240904T152723Z
LAST-MODIFIED:20240904T152723Z
UID:3819-1728234000-1728241200@www.friendshipforcecr-ic.org
SUMMARY:Willamette Valley (Oregon) Farewell Dinner
DESCRIPTION:We have 8 ambassadors from Mid-Willamette Valley\, Oregon visiting us. Come to the farewell\, Sunday October 6th. If you want to be involved in other aspects of the journey contact Judy Frascht-Miner\, jjbm526@aol.com \n
URL:http://www.friendshipforcecr-ic.org/event/willamette-valley-oregon-farewell-dinner/
LOCATION:Nancy Miller’s home\, 4618 Chestnut Ridge CT NE\, Cedar Rapids
END:VEVENT
END:VCALENDAR