BEGIN:VCALENDAR
VERSION:2.0
PRODID:-//Friendship Force Cedar Rapids and Iowa City - ECPv5.1.5//NONSGML v1.0//EN
CALSCALE:GREGORIAN
METHOD:PUBLISH
X-WR-CALNAME:Friendship Force Cedar Rapids and Iowa City
X-ORIGINAL-URL:http://www.friendshipforcecr-ic.org
X-WR-CALDESC:Events for Friendship Force Cedar Rapids and Iowa City
BEGIN:VTIMEZONE
TZID:UTC
BEGIN:STANDARD
TZOFFSETFROM:+0000
TZOFFSETTO:+0000
TZNAME:UTC
DTSTART:20240101T000000
END:STANDARD
END:VTIMEZONE
BEGIN:VEVENT
DTSTART;TZID=UTC:20241123T093000
DTEND;TZID=UTC:20241123T113000
DTSTAMP:20260423T000344
CREATED:20240904T153034Z
LAST-MODIFIED:20240904T153034Z
UID:3823-1732354200-1732361400@www.friendshipforcecr-ic.org
SUMMARY:Annual Meeting\, Ronneburg Restaurant in Amana
DESCRIPTION:The club’s annual meeting will be Saturday\, November 23 at 9:30 AM at the Ronneburg Restaurant in Amana\, Ia. Please mark your calendars. We will be electing officers for 2025 along with enjoying a great family style breakfast.\nThe following members have been nominated for club officers and will be voted on at the annual meeting.\nPresident: elect Stephanie Schulte\nSecretary: Nadine Stark\nTreasurer: Tom Hess \n
URL:http://www.friendshipforcecr-ic.org/event/annual-meeting-ronneburg-restaurant-in-amana/
END:VEVENT
END:VCALENDAR