BEGIN:VCALENDAR
VERSION:2.0
PRODID:-//Friendship Force Cedar Rapids and Iowa City - ECPv5.1.5//NONSGML v1.0//EN
CALSCALE:GREGORIAN
METHOD:PUBLISH
X-WR-CALNAME:Friendship Force Cedar Rapids and Iowa City
X-ORIGINAL-URL:http://www.friendshipforcecr-ic.org
X-WR-CALDESC:Events for Friendship Force Cedar Rapids and Iowa City
BEGIN:VTIMEZONE
TZID:UTC
BEGIN:STANDARD
TZOFFSETFROM:+0000
TZOFFSETTO:+0000
TZNAME:UTC
DTSTART:20240101T000000
END:STANDARD
END:VTIMEZONE
BEGIN:VEVENT
DTSTART;TZID=UTC:20241203T180000
DTEND;TZID=UTC:20241203T200000
DTSTAMP:20260422T222448
CREATED:20241119T000147Z
LAST-MODIFIED:20241119T000147Z
UID:3871-1733248800-1733256000@www.friendshipforcecr-ic.org
SUMMARY:25th Anniversary of Congressional Office of International Leadership
DESCRIPTION:Stephanie Schulte and Connie Williams have been invited to attend the 25th Anniversary of COIL (Congressional Office of International Leadership. They will share our club’s experiences with Open World hosting. \n
URL:http://www.friendshipforcecr-ic.org/event/25th-anniversary-of-congressional-office-of-international-leadership/
LOCATION:Washington\, DC
END:VEVENT
END:VCALENDAR