BEGIN:VCALENDAR
VERSION:2.0
PRODID:-//Friendship Force Cedar Rapids and Iowa City - ECPv5.1.5//NONSGML v1.0//EN
CALSCALE:GREGORIAN
METHOD:PUBLISH
X-WR-CALNAME:Friendship Force Cedar Rapids and Iowa City
X-ORIGINAL-URL:http://www.friendshipforcecr-ic.org
X-WR-CALDESC:Events for Friendship Force Cedar Rapids and Iowa City
BEGIN:VTIMEZONE
TZID:UTC
BEGIN:STANDARD
TZOFFSETFROM:+0000
TZOFFSETTO:+0000
TZNAME:UTC
DTSTART:20240101T000000
END:STANDARD
END:VTIMEZONE
BEGIN:VEVENT
DTSTART;TZID=UTC:20241216T130000
DTEND;TZID=UTC:20241216T140000
DTSTAMP:20260422T222432
CREATED:20241118T235446Z
LAST-MODIFIED:20241118T235446Z
UID:3866-1734354000-1734357600@www.friendshipforcecr-ic.org
SUMMARY:Board Meeting on Zoom
DESCRIPTION:
URL:http://www.friendshipforcecr-ic.org/event/board-meeting-on-zoom/
LOCATION:Zoom
END:VEVENT
END:VCALENDAR