BEGIN:VCALENDAR
VERSION:2.0
PRODID:-//Friendship Force Cedar Rapids and Iowa City - ECPv5.1.5//NONSGML v1.0//EN
CALSCALE:GREGORIAN
METHOD:PUBLISH
X-WR-CALNAME:Friendship Force Cedar Rapids and Iowa City
X-ORIGINAL-URL:http://www.friendshipforcecr-ic.org
X-WR-CALDESC:Events for Friendship Force Cedar Rapids and Iowa City
BEGIN:VTIMEZONE
TZID:UTC
BEGIN:STANDARD
TZOFFSETFROM:+0000
TZOFFSETTO:+0000
TZNAME:UTC
DTSTART:20250101T000000
END:STANDARD
END:VTIMEZONE
BEGIN:VEVENT
DTSTART;TZID=UTC:20250302T140000
DTEND;TZID=UTC:20250302T160000
DTSTAMP:20260422T171517
CREATED:20250129T212734Z
LAST-MODIFIED:20250130T042925Z
UID:3935-1740924000-1740931200@www.friendshipforcecr-ic.org
SUMMARY:World Friendship Day Celebration
DESCRIPTION:Back\n\n\n\nOur club will celebrate World Friendship Day with a Potluck Meeting on Sunday\, March 2\, 2025 at Marion Christian Church\, 1050 McGowan Boulevard\, Marion\, IA 52302\n\n\n\n\n\n\n\n\n\n\n\n\nEnjoy an international potluck dinner.\nBring a main dish and a side to share. \nTable service & beverages provided.\nSpeaker: Dr. Alissa Boguslaw from Coe College talking about her experiences in Kosovo.\nMeet club members and learn more about upcoming club activities\n\n\n\n\n\n\n\n\n\n\n\n
URL:http://www.friendshipforcecr-ic.org/event/world-friendship-day-celebration-2/
LOCATION:1050 McGowan Boulevard\, Marion\, IA
END:VEVENT
END:VCALENDAR