BEGIN:VCALENDAR
VERSION:2.0
PRODID:-//Friendship Force Cedar Rapids and Iowa City - ECPv5.1.5//NONSGML v1.0//EN
CALSCALE:GREGORIAN
METHOD:PUBLISH
X-WR-CALNAME:Friendship Force Cedar Rapids and Iowa City
X-ORIGINAL-URL:http://www.friendshipforcecr-ic.org
X-WR-CALDESC:Events for Friendship Force Cedar Rapids and Iowa City
BEGIN:VTIMEZONE
TZID:UTC
BEGIN:STANDARD
TZOFFSETFROM:+0000
TZOFFSETTO:+0000
TZNAME:UTC
DTSTART:20250101T000000
END:STANDARD
END:VTIMEZONE
BEGIN:VEVENT
DTSTART;TZID=UTC:20250406T160000
DTEND;TZID=UTC:20250406T190000
DTSTAMP:20260422T153518
CREATED:20250130T043436Z
LAST-MODIFIED:20250130T043436Z
UID:3940-1743955200-1743966000@www.friendshipforcecr-ic.org
SUMMARY:Soup Supper & Game Night
DESCRIPTION:At this general meeting\, members will enjoy a soup supper and then play board or card games. It will be on Sunday\, April 6 from 4-7 pm at the Anamosa Public Library\, 600 East First Street\, Anamosa. \n
URL:http://www.friendshipforcecr-ic.org/event/soup-supper-game-night/
LOCATION:Anamosa Iowa Public Library\, 600 E. First Street\, 600 E. First Street\, Anamosa\, IA\, United States
END:VEVENT
END:VCALENDAR