BEGIN:VCALENDAR
VERSION:2.0
PRODID:-//Friendship Force Cedar Rapids and Iowa City - ECPv5.1.5//NONSGML v1.0//EN
CALSCALE:GREGORIAN
METHOD:PUBLISH
X-WR-CALNAME:Friendship Force Cedar Rapids and Iowa City
X-ORIGINAL-URL:http://www.friendshipforcecr-ic.org
X-WR-CALDESC:Events for Friendship Force Cedar Rapids and Iowa City
BEGIN:VTIMEZONE
TZID:UTC
BEGIN:STANDARD
TZOFFSETFROM:+0000
TZOFFSETTO:+0000
TZNAME:UTC
DTSTART:20250101T000000
END:STANDARD
END:VTIMEZONE
BEGIN:VEVENT
DTSTART;TZID=UTC:20250424T100000
DTEND;TZID=UTC:20250424T120000
DTSTAMP:20260422T155613
CREATED:20250412T211134Z
LAST-MODIFIED:20250412T211134Z
UID:4001-1745488800-1745496000@www.friendshipforcecr-ic.org
SUMMARY:Hike at MacBride Nature Recreation Center
DESCRIPTION:Hello all hikers and outdoor lovers.  Our next guided hiking opportunity is at MacBride Nature Recreation Area. It is arranged for 10am April 24 with a rain date of April 29.  We will have a guided two-hour hike with an experienced naturalist teaching us about the ecosystem and history of the Big Grove. Our meeting spot would be the main parking lot at 1830 Raptor Ridge Road  where there is a shelter\, water and flush toilets available. (This is in the same area as the raptor center our club has visited in the past.) Please bring water and insect repellent; walking sticks and hats are recommended.  Because of the educational component of this hike\, it would cost $150 per ten people\, If you have questions\, reach out to Jean Thomas\, 319 830-5092. \n
URL:http://www.friendshipforcecr-ic.org/event/hike-at-macbride-nature-recreation-center/
LOCATION:Macbride Nature Recreation Center\, 1830 Raptor Ridge Road
END:VEVENT
END:VCALENDAR