BEGIN:VCALENDAR
VERSION:2.0
PRODID:-//Friendship Force Cedar Rapids and Iowa City - ECPv5.1.5//NONSGML v1.0//EN
CALSCALE:GREGORIAN
METHOD:PUBLISH
X-WR-CALNAME:Friendship Force Cedar Rapids and Iowa City
X-ORIGINAL-URL:http://www.friendshipforcecr-ic.org
X-WR-CALDESC:Events for Friendship Force Cedar Rapids and Iowa City
BEGIN:VTIMEZONE
TZID:UTC
BEGIN:STANDARD
TZOFFSETFROM:+0000
TZOFFSETTO:+0000
TZNAME:UTC
DTSTART:20250101T000000
END:STANDARD
END:VTIMEZONE
BEGIN:VEVENT
DTSTART;TZID=UTC:20250504T110000
DTEND;TZID=UTC:20250504T170000
DTSTAMP:20260422T135138
CREATED:20250224T203145Z
LAST-MODIFIED:20250224T213016Z
UID:3967-1746356400-1746378000@www.friendshipforcecr-ic.org
SUMMARY:Let's Eat Out (LEO) Lubben Vineyards\, Anamosa
DESCRIPTION:Nestled in the rolling hills of Anamosa\, Iowa\, lies a little slice of paradise we call Lubben Vineyards. Let’s raise a glass to the timeless charm of the Iowa countryside. Pizza Available. Music in the afternoon \nLubben Vineyards\, 13504 Hwy 151\, Anamosa\, Iowa 52205 \n
URL:http://www.friendshipforcecr-ic.org/event/lets-eat-out-leo-grant-wood-hills-winery/
END:VEVENT
END:VCALENDAR