BEGIN:VCALENDAR
VERSION:2.0
PRODID:-//Friendship Force Cedar Rapids and Iowa City - ECPv5.1.5//NONSGML v1.0//EN
CALSCALE:GREGORIAN
METHOD:PUBLISH
X-WR-CALNAME:Friendship Force Cedar Rapids and Iowa City
X-ORIGINAL-URL:http://www.friendshipforcecr-ic.org
X-WR-CALDESC:Events for Friendship Force Cedar Rapids and Iowa City
BEGIN:VTIMEZONE
TZID:UTC
BEGIN:STANDARD
TZOFFSETFROM:+0000
TZOFFSETTO:+0000
TZNAME:UTC
DTSTART:20250101T000000
END:STANDARD
END:VTIMEZONE
BEGIN:VEVENT
DTSTART;VALUE=DATE:20250528
DTEND;VALUE=DATE:20250605
DTSTAMP:20260422T135434
CREATED:20240704T172334Z
LAST-MODIFIED:20250402T224612Z
UID:3772-1748390400-1749081599@www.friendshipforcecr-ic.org
SUMMARY:Outgoing Journey to New Hampshire USA
DESCRIPTION:Journey is full \n
URL:http://www.friendshipforcecr-ic.org/event/outgoing-journey-to-new-hampshire-usa/
END:VEVENT
END:VCALENDAR