BEGIN:VCALENDAR
VERSION:2.0
PRODID:-//Friendship Force Cedar Rapids and Iowa City - ECPv5.1.5//NONSGML v1.0//EN
CALSCALE:GREGORIAN
METHOD:PUBLISH
X-WR-CALNAME:Friendship Force Cedar Rapids and Iowa City
X-ORIGINAL-URL:http://www.friendshipforcecr-ic.org
X-WR-CALDESC:Events for Friendship Force Cedar Rapids and Iowa City
BEGIN:VTIMEZONE
TZID:UTC
BEGIN:STANDARD
TZOFFSETFROM:+0000
TZOFFSETTO:+0000
TZNAME:UTC
DTSTART:20250101T000000
END:STANDARD
END:VTIMEZONE
BEGIN:VEVENT
DTSTART;TZID=UTC:20250623T130000
DTEND;TZID=UTC:20250623T140000
DTSTAMP:20260422T122015
CREATED:20250521T193640Z
LAST-MODIFIED:20250521T193640Z
UID:4012-1750683600-1750687200@www.friendshipforcecr-ic.org
SUMMARY:Zoom Board Meeting
DESCRIPTION:
URL:http://www.friendshipforcecr-ic.org/event/zoom-board-meeting/
LOCATION:Zoom
END:VEVENT
END:VCALENDAR