BEGIN:VCALENDAR
VERSION:2.0
PRODID:-//Friendship Force Cedar Rapids and Iowa City - ECPv5.1.5//NONSGML v1.0//EN
CALSCALE:GREGORIAN
METHOD:PUBLISH
X-WR-CALNAME:Friendship Force Cedar Rapids and Iowa City
X-ORIGINAL-URL:http://www.friendshipforcecr-ic.org
X-WR-CALDESC:Events for Friendship Force Cedar Rapids and Iowa City
BEGIN:VTIMEZONE
TZID:UTC
BEGIN:STANDARD
TZOFFSETFROM:+0000
TZOFFSETTO:+0000
TZNAME:UTC
DTSTART:20250101T000000
END:STANDARD
END:VTIMEZONE
BEGIN:VEVENT
DTSTART;VALUE=DATE:20250722
DTEND;VALUE=DATE:20250727
DTSTAMP:20260422T112720
CREATED:20250224T203743Z
LAST-MODIFIED:20250224T203743Z
UID:3970-1753142400-1753574399@www.friendshipforcecr-ic.org
SUMMARY:Outgoing Journey to Milwaukee\, Wisconsin
DESCRIPTION:Our club will travel to Milwaukee Wisconsin on a return from their visit to Cedar Rapids in 2024. \n
URL:http://www.friendshipforcecr-ic.org/event/outgoing-journey-to-milwaukee-wisconsin/
END:VEVENT
END:VCALENDAR